BEGIN:VCALENDAR
VERSION:2.0
PRODID:-//May 20th Society - ECPv6.15.20//NONSGML v1.0//EN
CALSCALE:GREGORIAN
METHOD:PUBLISH
X-WR-CALNAME:May 20th Society
X-ORIGINAL-URL:https://may20thsociety.org
X-WR-CALDESC:Events for May 20th Society
REFRESH-INTERVAL;VALUE=DURATION:PT1H
X-Robots-Tag:noindex
X-PUBLISHED-TTL:PT1H
BEGIN:VTIMEZONE
TZID:America/New_York
BEGIN:DAYLIGHT
TZOFFSETFROM:-0500
TZOFFSETTO:-0400
TZNAME:EDT
DTSTART:20240310T070000
END:DAYLIGHT
BEGIN:STANDARD
TZOFFSETFROM:-0400
TZOFFSETTO:-0500
TZNAME:EST
DTSTART:20241103T060000
END:STANDARD
BEGIN:DAYLIGHT
TZOFFSETFROM:-0500
TZOFFSETTO:-0400
TZNAME:EDT
DTSTART:20250309T070000
END:DAYLIGHT
BEGIN:STANDARD
TZOFFSETFROM:-0400
TZOFFSETTO:-0500
TZNAME:EST
DTSTART:20251102T060000
END:STANDARD
BEGIN:DAYLIGHT
TZOFFSETFROM:-0500
TZOFFSETTO:-0400
TZNAME:EDT
DTSTART:20260308T070000
END:DAYLIGHT
BEGIN:STANDARD
TZOFFSETFROM:-0400
TZOFFSETTO:-0500
TZNAME:EST
DTSTART:20261101T060000
END:STANDARD
END:VTIMEZONE
BEGIN:VEVENT
DTSTART;TZID=America/New_York:20250510T100000
DTEND;TZID=America/New_York:20250510T140000
DTSTAMP:20260419T193045
CREATED:20250124T152638Z
LAST-MODIFIED:20250326T172617Z
UID:2132-1746871200-1746885600@may20thsociety.org
SUMMARY:Trail of History Festival
DESCRIPTION:In partnership with Mecklenburg County\, the Trail of History Festival is a one-day\, annual event celebrating the history\, growth\, & development of Mecklenburg County\, featuring local history\, art\, music\, and food!
URL:https://may20thsociety.org/event/trail-of-history-festival/
LOCATION:Captain Jack Statue\, 4th Street and King Drive\, Charlotte\, NC\, United States
END:VEVENT
BEGIN:VEVENT
DTSTART;TZID=America/New_York:20250218T183000
DTEND;TZID=America/New_York:20250218T210000
DTSTAMP:20260419T193045
CREATED:20250124T155721Z
LAST-MODIFIED:20250124T155721Z
UID:2139-1739903400-1739912400@may20thsociety.org
SUMMARY:The Spirit of Mecklenburg: 15th Anniversary Celebration of the Charlotte Trail of History
DESCRIPTION:Join us as we celebrate the 15th anniversary of the Charlotte Trail of History on February 18\, 2025\, at Middle C Jazz to enjoy a captivating evening celebrating Charlotte’s rich history through music and storytelling. \n\nExperience the lives and legacies of the Trail of History’s honorees brought to life with unforgettable performances by Noel Freidline\, Maria Howell\, and special guests. \n\nYour ticket includes a full evening of entertainment\, dinner from Dressler’s Improv Kitchen\, and adult beverages. Doors open at 6:30 p.m.\, and the program begins at 7 p.m.\n\n\n\nSecure your seat today and be part of this remarkable tribute to the Spirit of Mecklenburg!
URL:https://may20thsociety.org/event/the-spirit-of-mecklenburg-15th-anniversary-celebration-of-the-charlotte-trail-of-history/
LOCATION:Middle C Jazz\, 300 South Brevard Street\, Charlotte\, 28202\, United States
END:VEVENT
END:VCALENDAR