BEGIN:VCALENDAR
VERSION:2.0
PRODID:-//May 20th Society - ECPv6.15.20//NONSGML v1.0//EN
CALSCALE:GREGORIAN
METHOD:PUBLISH
X-WR-CALNAME:May 20th Society
X-ORIGINAL-URL:https://may20thsociety.org
X-WR-CALDESC:Events for May 20th Society
REFRESH-INTERVAL;VALUE=DURATION:PT1H
X-Robots-Tag:noindex
X-PUBLISHED-TTL:PT1H
BEGIN:VTIMEZONE
TZID:America/New_York
BEGIN:DAYLIGHT
TZOFFSETFROM:-0500
TZOFFSETTO:-0400
TZNAME:EDT
DTSTART:20240310T070000
END:DAYLIGHT
BEGIN:STANDARD
TZOFFSETFROM:-0400
TZOFFSETTO:-0500
TZNAME:EST
DTSTART:20241103T060000
END:STANDARD
BEGIN:DAYLIGHT
TZOFFSETFROM:-0500
TZOFFSETTO:-0400
TZNAME:EDT
DTSTART:20250309T070000
END:DAYLIGHT
BEGIN:STANDARD
TZOFFSETFROM:-0400
TZOFFSETTO:-0500
TZNAME:EST
DTSTART:20251102T060000
END:STANDARD
BEGIN:DAYLIGHT
TZOFFSETFROM:-0500
TZOFFSETTO:-0400
TZNAME:EDT
DTSTART:20260308T070000
END:DAYLIGHT
BEGIN:STANDARD
TZOFFSETFROM:-0400
TZOFFSETTO:-0500
TZNAME:EST
DTSTART:20261101T060000
END:STANDARD
END:VTIMEZONE
BEGIN:VEVENT
DTSTART;TZID=America/New_York:20250517T110000
DTEND;TZID=America/New_York:20250517T130000
DTSTAMP:20260419T225411
CREATED:20250424T190211Z
LAST-MODIFIED:20250424T190211Z
UID:2362-1747479600-1747486800@may20thsociety.org
SUMMARY:SCAVENGER HUNT AT OMB!
DESCRIPTION:The Olde Mecklenburg Brewery is so excited for the 250th Anniversary of the Mecklenburg Declaration of Independence that they have created a scavenger hunt for guests to learn some Charlotte history while competing for a grand prize! We hear there’s complimentary beer involved too!  \n*Participants can start at any of the 5 locations and do not need to come to OMB before beginning.  \nScavenger Hunt details:   \n\nBefore getting started- you will need to scan a QR code containing all info and clues for the hunt \n\n\nThe QR code will be for people who begin at the OMB taproom (this is not necessary) \n\n\nThe link will be posted on OMB’s website and via social media for those who do not begin at the taproom  \n\n\nPlease note this link is being created and will be sent out by May 1st by OMB  \n\n\nOn May 17th\, located at 5 historical sites around the Queen City\, you’ll find an OMB tin sign. Participants will need to find all 5 before heading back to LoSo taproom. These locations do not need to be found in any specific order. \n\n\nAt each location\, take a photo of you and your group with the OMB sign. Once you complete the 5 photos of the scavenger hunt\, head back to the LoSo taproom for a complimentary beer and live music from 1-4.   
URL:https://may20thsociety.org/event/scavenger-hunt-at-omb/
LOCATION:Olde Mecklenburg Brewery\, 4150 Yancey Road\, Charlotte\, NC\, 28217\, United States
END:VEVENT
END:VCALENDAR